BEGIN:VCALENDAR
VERSION:2.0
PRODID:-//nwsoco.org//NONSGML kigkonsult.se iCalcreator 2.30.10//
CALSCALE:GREGORIAN
METHOD:PUBLISH
UID:7afd39a4-6656-4b80-a9b8-0998fd317dd7
X-WR-CALDESC:
X-WR-RELCALID:4533ca51c4d88d1765efecaa9216d444
X-WR-TIMEZONE:America/Denver
BEGIN:VTIMEZONE
TZID:America/Denver
BEGIN:STANDARD
TZNAME:MST
DTSTART:20211107T020000
TZOFFSETFROM:-0600
TZOFFSETTO:-0700
RDATE:20221106T020000
END:STANDARD
BEGIN:DAYLIGHT
TZNAME:MDT
DTSTART:20220313T020000
TZOFFSETFROM:-0700
TZOFFSETTO:-0600
RDATE:20230312T020000
END:DAYLIGHT
END:VTIMEZONE
BEGIN:VEVENT
UID:2d711267-2790-4fe6-999e-24830de2c6a3
DTSTAMP:20260425T223458Z
DESCRIPTION:
DTSTART;TZID=America/Denver:20220422T130000
DTEND;TZID=America/Denver:20220422T160000
LOCATION:
SUMMARY:Rental Education Class
END:VEVENT
END:VCALENDAR
