BEGIN:VCALENDAR
VERSION:2.0
PRODID:-//nwsoco.org//NONSGML kigkonsult.se iCalcreator 2.30.10//
CALSCALE:GREGORIAN
METHOD:PUBLISH
UID:054a5bb0-eb03-4eb9-81a7-632ec3d55e56
X-WR-CALDESC:
X-WR-RELCALID:4267a0b88b12bc783bd3194d15a4b84e
X-WR-TIMEZONE:America/Denver
BEGIN:VTIMEZONE
TZID:America/Denver
BEGIN:STANDARD
TZNAME:MST
DTSTART:20211107T020000
TZOFFSETFROM:-0600
TZOFFSETTO:-0700
RDATE:20221106T020000
RDATE:20231105T020000
END:STANDARD
BEGIN:DAYLIGHT
TZNAME:MDT
DTSTART:20220313T020000
TZOFFSETFROM:-0700
TZOFFSETTO:-0600
RDATE:20230312T020000
END:DAYLIGHT
END:VTIMEZONE
BEGIN:VEVENT
UID:0410981a-342d-4b98-98a1-b69087631fb5
DTSTAMP:20260425T210041Z
DESCRIPTION:
DTSTART;TZID=America/Denver:20220506T000000
DTEND;TZID=America/Denver:20220506T235900
LOCATION:Elmwood Golf Course
SUMMARY:Golf Scramble
END:VEVENT
END:VCALENDAR
