BEGIN:VCALENDAR
VERSION:2.0
PRODID:-//nwsoco.org//NONSGML kigkonsult.se iCalcreator 2.30.10//
CALSCALE:GREGORIAN
METHOD:PUBLISH
UID:a5f6634f-76f3-4f97-8931-d67a4a6c8d4b
X-WR-CALDESC:
X-WR-RELCALID:aecbf14631dc0f12de639bb66f5b430c
X-WR-TIMEZONE:America/Denver
BEGIN:VTIMEZONE
TZID:America/Denver
BEGIN:STANDARD
TZNAME:MST
DTSTART:20211107T020000
TZOFFSETFROM:-0600
TZOFFSETTO:-0700
RDATE:20221106T020000
RDATE:20231105T020000
END:STANDARD
BEGIN:DAYLIGHT
TZNAME:MDT
DTSTART:20220313T020000
TZOFFSETFROM:-0700
TZOFFSETTO:-0600
RDATE:20230312T020000
END:DAYLIGHT
END:VTIMEZONE
BEGIN:VEVENT
UID:9c8b7190-bef4-4b0b-ae6c-29a403b6303f
DTSTAMP:20260425T210158Z
DESCRIPTION:
DTSTART;TZID=America/Denver:20220512T100000
DTEND;TZID=America/Denver:20220512T160000
LOCATION:415 Walsen Ave\,\, Walsenburg\, CO 81004 US
SUMMARY:Homebuyer Education - Walsenburg
END:VEVENT
END:VCALENDAR
