BEGIN:VCALENDAR
VERSION:2.0
PRODID:-//nwsoco.org//NONSGML kigkonsult.se iCalcreator 2.30.10//
CALSCALE:GREGORIAN
METHOD:PUBLISH
UID:901607a8-805b-48c2-b0c3-0df888467bbb
X-WR-CALDESC:
X-WR-RELCALID:5d935fcb641b58744e710873bc3ff27b
X-WR-TIMEZONE:America/Denver
BEGIN:VTIMEZONE
TZID:America/Denver
BEGIN:STANDARD
TZNAME:MST
DTSTART:20211107T020000
TZOFFSETFROM:-0600
TZOFFSETTO:-0700
RDATE:20221106T020000
RDATE:20231105T020000
END:STANDARD
BEGIN:DAYLIGHT
TZNAME:MDT
DTSTART:20220313T020000
TZOFFSETFROM:-0700
TZOFFSETTO:-0600
RDATE:20230312T020000
END:DAYLIGHT
END:VTIMEZONE
BEGIN:VEVENT
UID:5d61346d-d9ce-47ca-bb77-ec5d77769fab
DTSTAMP:20260425T192952Z
DESCRIPTION:
DTSTART;TZID=America/Denver:20220603T080000
DTEND;TZID=America/Denver:20220603T090000
LOCATION:814 E. 5th St.\, Pueblo\, CO 81001 US
SUMMARY:Garden Day!
END:VEVENT
END:VCALENDAR
