BEGIN:VCALENDAR
VERSION:2.0
PRODID:-//nwsoco.org//NONSGML kigkonsult.se iCalcreator 2.30.10//
CALSCALE:GREGORIAN
METHOD:PUBLISH
UID:6fc93d14-517e-49a9-acfb-b7e7308e6bf8
X-WR-CALDESC:
X-WR-RELCALID:c926f9c7a00cc5b75fdd016cb24ef82b
X-WR-TIMEZONE:America/Denver
BEGIN:VTIMEZONE
TZID:America/Denver
BEGIN:STANDARD
TZNAME:MST
DTSTART:20211107T020000
TZOFFSETFROM:-0600
TZOFFSETTO:-0700
RDATE:20221106T020000
RDATE:20231105T020000
END:STANDARD
BEGIN:DAYLIGHT
TZNAME:MDT
DTSTART:20220313T020000
TZOFFSETFROM:-0700
TZOFFSETTO:-0600
RDATE:20230312T020000
END:DAYLIGHT
END:VTIMEZONE
BEGIN:VEVENT
UID:0a0eb615-e4b5-4a7f-9af9-db74c4928253
DTSTAMP:20260425T192942Z
DESCRIPTION:
DTSTART;TZID=America/Denver:20220609T100000
DTEND;TZID=America/Denver:20220609T160000
LOCATION:415 Walsen Ave\,\, Walsenburg\, CO 81004 US
SUMMARY:Homebuyer Education - Walsenburg
END:VEVENT
END:VCALENDAR
