BEGIN:VCALENDAR
VERSION:2.0
PRODID:-//nwsoco.org//NONSGML kigkonsult.se iCalcreator 2.30.10//
CALSCALE:GREGORIAN
METHOD:PUBLISH
UID:c4bf8db8-8b69-4452-83c8-92ddf8db7f40
X-WR-CALDESC:
X-WR-RELCALID:1e017a4503f4ee0f1540542d214d2067
X-WR-TIMEZONE:America/Denver
BEGIN:VTIMEZONE
TZID:America/Denver
BEGIN:STANDARD
TZNAME:MST
DTSTART:20211107T020000
TZOFFSETFROM:-0600
TZOFFSETTO:-0700
RDATE:20221106T020000
RDATE:20231105T020000
END:STANDARD
BEGIN:DAYLIGHT
TZNAME:MDT
DTSTART:20220313T020000
TZOFFSETFROM:-0700
TZOFFSETTO:-0600
RDATE:20230312T020000
END:DAYLIGHT
END:VTIMEZONE
BEGIN:VEVENT
UID:385ec16a-a385-4fbf-bf9a-d49789f78dd0
DTSTAMP:20260425T175311Z
DESCRIPTION:
DTSTART;TZID=America/Denver:20220722T130000
DTEND;TZID=America/Denver:20220722T160000
LOCATION:
SUMMARY:Rental Education Class
END:VEVENT
END:VCALENDAR
