BEGIN:VCALENDAR
VERSION:2.0
PRODID:-//nwsoco.org//NONSGML kigkonsult.se iCalcreator 2.30.10//
CALSCALE:GREGORIAN
METHOD:PUBLISH
UID:8692a548-e9fc-4e61-a799-c26e66b3630e
X-WR-CALDESC:
X-WR-RELCALID:816dae671f9fddf17029c5bcc9e25ac9
X-WR-TIMEZONE:America/Denver
BEGIN:VTIMEZONE
TZID:America/Denver
BEGIN:STANDARD
TZNAME:MST
DTSTART:20211107T020000
TZOFFSETFROM:-0600
TZOFFSETTO:-0700
RDATE:20221106T020000
RDATE:20231105T020000
END:STANDARD
BEGIN:DAYLIGHT
TZNAME:MDT
DTSTART:20220313T020000
TZOFFSETFROM:-0700
TZOFFSETTO:-0600
RDATE:20230312T020000
END:DAYLIGHT
END:VTIMEZONE
BEGIN:VEVENT
UID:be7e1f06-e073-43c3-bdee-d0b1d7df927d
DTSTAMP:20260425T162001Z
DESCRIPTION:
DTSTART;TZID=America/Denver:20220812T080000
DTEND;TZID=America/Denver:20220812T090000
LOCATION:814 E. 5th St.\, Pueblo\, CO 81001 US
SUMMARY:Garden Day!
END:VEVENT
END:VCALENDAR
