BEGIN:VCALENDAR
VERSION:2.0
PRODID:-//nwsoco.org//NONSGML kigkonsult.se iCalcreator 2.30.10//
CALSCALE:GREGORIAN
METHOD:PUBLISH
UID:3c829d8e-4bfc-4470-8dc7-7c33e1a60753
X-WR-CALDESC:A guide to creating financial confidence and stability for you
  and your family\, and is the first step on your road to homeownership.
X-WR-RELCALID:b97d93ec773312870e479c0452ffd78a
X-WR-TIMEZONE:America/Denver
BEGIN:VTIMEZONE
TZID:America/Denver
BEGIN:STANDARD
TZNAME:MST
DTSTART:20211107T020000
TZOFFSETFROM:-0600
TZOFFSETTO:-0700
RDATE:20221106T020000
RDATE:20231105T020000
END:STANDARD
BEGIN:DAYLIGHT
TZNAME:MDT
DTSTART:20220313T020000
TZOFFSETFROM:-0700
TZOFFSETTO:-0600
RDATE:20230312T020000
END:DAYLIGHT
END:VTIMEZONE
BEGIN:VEVENT
UID:4a936908-21bd-4b78-a6d6-2a943c7d5a2e
DTSTAMP:20260425T162029Z
DESCRIPTION:A guide to creating financial confidence and stability for you 
 and your family\, and is the first step on your road to homeownership.
DTSTART;TZID=America/Denver:20220812T130000
DTEND;TZID=America/Denver:20220812T160000
LOCATION:NWSOCO Meeting Room
SUMMARY:Financial Fitness Class - Pueblo
END:VEVENT
END:VCALENDAR
