BEGIN:VCALENDAR
VERSION:2.0
PRODID:-//nwsoco.org//NONSGML kigkonsult.se iCalcreator 2.30.10//
CALSCALE:GREGORIAN
METHOD:PUBLISH
UID:dc76025e-2160-469a-b293-17b2d7909eed
X-WR-CALDESC:
X-WR-RELCALID:32bdb76aa6f465a916bcb84f94940d4a
X-WR-TIMEZONE:America/Denver
BEGIN:VTIMEZONE
TZID:America/Denver
BEGIN:STANDARD
TZNAME:MST
DTSTART:20211107T020000
TZOFFSETFROM:-0600
TZOFFSETTO:-0700
RDATE:20221106T020000
RDATE:20231105T020000
END:STANDARD
BEGIN:DAYLIGHT
TZNAME:MDT
DTSTART:20220313T020000
TZOFFSETFROM:-0700
TZOFFSETTO:-0600
RDATE:20230312T020000
END:DAYLIGHT
END:VTIMEZONE
BEGIN:VEVENT
UID:c9c92731-3bca-4f84-a9b4-45d8df7c21e1
DTSTAMP:20260425T162012Z
DESCRIPTION:
DTSTART;TZID=America/Denver:20220826T080000
DTEND;TZID=America/Denver:20220826T090000
LOCATION:814 E. 5th St.\, Pueblo\, CO 81001 US
SUMMARY:Garden Day!
END:VEVENT
END:VCALENDAR
