BEGIN:VCALENDAR
VERSION:2.0
PRODID:-//nwsoco.org//NONSGML kigkonsult.se iCalcreator 2.30.10//
CALSCALE:GREGORIAN
METHOD:PUBLISH
UID:4ad36093-7e9a-46cc-8efd-9f8ed8d5c27a
X-WR-CALDESC:
X-WR-RELCALID:012cfb62a30d7f2fa2261b67abfd5f3b
X-WR-TIMEZONE:America/Denver
BEGIN:VTIMEZONE
TZID:America/Denver
BEGIN:STANDARD
TZNAME:MST
DTSTART:20211107T020000
TZOFFSETFROM:-0600
TZOFFSETTO:-0700
RDATE:20221106T020000
RDATE:20231105T020000
END:STANDARD
BEGIN:DAYLIGHT
TZNAME:MDT
DTSTART:20220313T020000
TZOFFSETFROM:-0700
TZOFFSETTO:-0600
RDATE:20230312T020000
RDATE:20240310T020000
END:DAYLIGHT
END:VTIMEZONE
BEGIN:VEVENT
UID:a2a2d870-2722-47e1-b0a8-0766c7ce6bf1
DTSTAMP:20260425T144547Z
DESCRIPTION:
DTSTART;TZID=America/Denver:20220923T080000
DTEND;TZID=America/Denver:20220923T090000
LOCATION:814 E. 5th St.\, Pueblo\, CO 81001 US
SUMMARY:Garden Day!
END:VEVENT
END:VCALENDAR
