BEGIN:VCALENDAR
VERSION:2.0
PRODID:-//nwsoco.org//NONSGML kigkonsult.se iCalcreator 2.30.10//
CALSCALE:GREGORIAN
METHOD:PUBLISH
UID:7ad409c5-4758-48c2-8a6e-468502f12a60
X-WR-CALDESC:
X-WR-RELCALID:dd020b4729fbe96bc94e19aaef3ce903
X-WR-TIMEZONE:America/Denver
BEGIN:VTIMEZONE
TZID:America/Denver
BEGIN:STANDARD
TZNAME:MST
DTSTART:20211107T020000
TZOFFSETFROM:-0600
TZOFFSETTO:-0700
RDATE:20221106T020000
RDATE:20231105T020000
END:STANDARD
BEGIN:DAYLIGHT
TZNAME:MDT
DTSTART:20220313T020000
TZOFFSETFROM:-0700
TZOFFSETTO:-0600
RDATE:20230312T020000
RDATE:20240310T020000
END:DAYLIGHT
END:VTIMEZONE
BEGIN:VEVENT
UID:37e8a84e-6df1-43ef-bf1a-b71e2786a4be
DTSTAMP:20260425T144535Z
DESCRIPTION:
DTSTART;TZID=America/Denver:20220930T173000
DTEND;TZID=America/Denver:20220930T220000
LOCATION:
SUMMARY:Celebration of Home
END:VEVENT
END:VCALENDAR
