BEGIN:VCALENDAR
VERSION:2.0
PRODID:-//nwsoco.org//NONSGML kigkonsult.se iCalcreator 2.30.10//
CALSCALE:GREGORIAN
METHOD:PUBLISH
UID:e66d3cd7-48b1-4ed6-a510-bc948167555d
X-WR-CALDESC:
X-WR-RELCALID:b701cf6f278ae6ef6a3b9a8eabd8b0e1
X-WR-TIMEZONE:America/Denver
BEGIN:VTIMEZONE
TZID:America/Denver
BEGIN:STANDARD
TZNAME:MST
DTSTART:20211107T020000
TZOFFSETFROM:-0600
TZOFFSETTO:-0700
RDATE:20221106T020000
RDATE:20231105T020000
END:STANDARD
BEGIN:DAYLIGHT
TZNAME:MDT
DTSTART:20220313T020000
TZOFFSETFROM:-0700
TZOFFSETTO:-0600
RDATE:20230312T020000
RDATE:20240310T020000
END:DAYLIGHT
END:VTIMEZONE
BEGIN:VEVENT
UID:8b6c717f-a70c-4e25-8323-2bcbcd8e9f56
DTSTAMP:20260425T130555Z
DESCRIPTION:
DTSTART;TZID=America/Denver:20221007T080000
DTEND;TZID=America/Denver:20221007T090000
LOCATION:814 E. 5th St.\, Pueblo\, CO 81001 US
SUMMARY:Garden Day!
END:VEVENT
END:VCALENDAR
