BEGIN:VCALENDAR
VERSION:2.0
PRODID:-//nwsoco.org//NONSGML kigkonsult.se iCalcreator 2.30.10//
CALSCALE:GREGORIAN
METHOD:PUBLISH
UID:9c63af79-b144-47d0-b643-539c70cb724a
X-WR-CALDESC:
X-WR-RELCALID:3b6118cbdbe58c2f4584f8e8c5b32b94
X-WR-TIMEZONE:America/Denver
BEGIN:VTIMEZONE
TZID:America/Denver
BEGIN:STANDARD
TZNAME:MST
DTSTART:20211107T020000
TZOFFSETFROM:-0600
TZOFFSETTO:-0700
RDATE:20221106T020000
RDATE:20231105T020000
END:STANDARD
BEGIN:DAYLIGHT
TZNAME:MDT
DTSTART:20220313T020000
TZOFFSETFROM:-0700
TZOFFSETTO:-0600
RDATE:20230312T020000
RDATE:20240310T020000
END:DAYLIGHT
END:VTIMEZONE
BEGIN:VEVENT
UID:d801c5d6-9ff7-48e8-8e43-c6fb8231b905
DTSTAMP:20260425T130443Z
DESCRIPTION:
DTSTART;TZID=America/Denver:20221007T130000
DTEND;TZID=America/Denver:20221007T160000
LOCATION:
SUMMARY:Rental Education Class
END:VEVENT
END:VCALENDAR
