BEGIN:VCALENDAR
VERSION:2.0
PRODID:-//nwsoco.org//NONSGML kigkonsult.se iCalcreator 2.30.10//
CALSCALE:GREGORIAN
METHOD:PUBLISH
UID:e0a436cf-2b51-4483-bc9b-31ab561882bb
X-WR-CALDESC:A guide to creating financial confidence and stability for you
  and your family\, and is the first step on your road to homeownership.
X-WR-RELCALID:db7af04b6310889482ee0f59da7ca135
X-WR-TIMEZONE:America/Denver
BEGIN:VTIMEZONE
TZID:America/Denver
BEGIN:STANDARD
TZNAME:MST
DTSTART:20221106T020000
TZOFFSETFROM:-0600
TZOFFSETTO:-0700
RDATE:20231105T020000
END:STANDARD
BEGIN:DAYLIGHT
TZNAME:MDT
DTSTART:20220313T020000
TZOFFSETFROM:-0700
TZOFFSETTO:-0600
RDATE:20230312T020000
RDATE:20240310T020000
END:DAYLIGHT
END:VTIMEZONE
BEGIN:VEVENT
UID:b5a1a2e5-7571-4bae-86be-9d87447a0814
DTSTAMP:20260425T114825Z
DESCRIPTION:A guide to creating financial confidence and stability for you 
 and your family\, and is the first step on your road to homeownership.
DTSTART;TZID=America/Denver:20221115T130000
DTEND;TZID=America/Denver:20221115T160000
LOCATION:230 N. Union Ave\, Pueblo\, CO 81003 US
SUMMARY:Financial Fitness Class - Pueblo
END:VEVENT
END:VCALENDAR
