BEGIN:VCALENDAR
VERSION:2.0
PRODID:-//nwsoco.org//NONSGML kigkonsult.se iCalcreator 2.30.10//
CALSCALE:GREGORIAN
METHOD:PUBLISH
UID:0dbc1295-07ba-4f7f-b53c-174a80ebfe1b
X-WR-CALDESC:Hungry Buffalo and NeighborWorks have teamed up to provide one
  free meal to our community in need. The meal will be pre-determined and b
 ottled waters will be provided. Neighbors are encouraged to enjoy their me
 al indoors in NWSoCo community room.
X-WR-RELCALID:326c493b120a3c3dd541178d9dfc8580
X-WR-TIMEZONE:America/Denver
BEGIN:VTIMEZONE
TZID:America/Denver
BEGIN:STANDARD
TZNAME:MST
DTSTART:20221106T020000
TZOFFSETFROM:-0600
TZOFFSETTO:-0700
RDATE:20231105T020000
END:STANDARD
BEGIN:DAYLIGHT
TZNAME:MDT
DTSTART:20220313T020000
TZOFFSETFROM:-0700
TZOFFSETTO:-0600
RDATE:20230312T020000
RDATE:20240310T020000
END:DAYLIGHT
END:VTIMEZONE
BEGIN:VEVENT
UID:f6f22da7-ff8d-4ece-9b86-ae8d83fe8c83
DTSTAMP:20260425T115427Z
DESCRIPTION:Hungry Buffalo and NeighborWorks have teamed up to provide one 
 free meal to our community in need. The meal will be pre-determined and bo
 ttled waters will be provided. Neighbors are encouraged to enjoy their mea
 l indoors in NWSoCo community room.
DTSTART;TZID=America/Denver:20221120T120000
DTEND;TZID=America/Denver:20221120T140000
LOCATION:1241 E Routt Ave.\, Pueblo\, CO 81004 US
SUMMARY:Hungry Buffalo - Free Meals
END:VEVENT
END:VCALENDAR
