BEGIN:VCALENDAR
VERSION:2.0
PRODID:-//nwsoco.org//NONSGML kigkonsult.se iCalcreator 2.30.10//
CALSCALE:GREGORIAN
METHOD:PUBLISH
UID:515d5488-9b2f-4f74-82ff-35f1d3769648
X-WR-CALDESC:Our office will be closed in observance of Thanksgiving
X-WR-RELCALID:d38cff7b7407fd359d9d2c9a7d09e100
X-WR-TIMEZONE:America/Denver
BEGIN:VTIMEZONE
TZID:America/Denver
BEGIN:STANDARD
TZNAME:MST
DTSTART:20221106T020000
TZOFFSETFROM:-0600
TZOFFSETTO:-0700
RDATE:20231105T020000
END:STANDARD
BEGIN:DAYLIGHT
TZNAME:MDT
DTSTART:20220313T020000
TZOFFSETFROM:-0700
TZOFFSETTO:-0600
RDATE:20230312T020000
RDATE:20240310T020000
END:DAYLIGHT
END:VTIMEZONE
BEGIN:VEVENT
UID:e832d601-c45a-4022-8b6c-fe745ffd7dd8
DTSTAMP:20260425T115416Z
DESCRIPTION:Our office will be closed in observance of Thanksgiving
DTSTART;TZID=America/Denver:20221124T000000
DTEND;TZID=America/Denver:20221125T235900
LOCATION:
SUMMARY:Office Closed - Thanksgiving
END:VEVENT
END:VCALENDAR
