BEGIN:VCALENDAR
VERSION:2.0
PRODID:-//nwsoco.org//NONSGML kigkonsult.se iCalcreator 2.30.10//
CALSCALE:GREGORIAN
METHOD:PUBLISH
UID:4230bde8-15da-4671-b46a-e0147abdd9bc
X-WR-CALDESC:Hungry Buffalo and NeighborWorks have teamed up to provide one
  free meal to our community in need. The meal will be pre-determined and b
 ottled waters will be provided. Neighbors are encouraged to enjoy their me
 al indoors in NWSoCo community room.
X-WR-RELCALID:7e8c2b4cd3268038ad2496bd8fa68ac2
X-WR-TIMEZONE:America/Denver
BEGIN:VTIMEZONE
TZID:America/Denver
BEGIN:STANDARD
TZNAME:MST
DTSTART:20221106T020000
TZOFFSETFROM:-0600
TZOFFSETTO:-0700
RDATE:20231105T020000
END:STANDARD
BEGIN:DAYLIGHT
TZNAME:MDT
DTSTART:20220313T020000
TZOFFSETFROM:-0700
TZOFFSETTO:-0600
RDATE:20230312T020000
RDATE:20240310T020000
END:DAYLIGHT
END:VTIMEZONE
BEGIN:VEVENT
UID:f4bb9d60-1d13-41e0-9f4a-1ac4e4b0e976
DTSTAMP:20260425T101759Z
DESCRIPTION:Hungry Buffalo and NeighborWorks have teamed up to provide one 
 free meal to our community in need. The meal will be pre-determined and bo
 ttled waters will be provided. Neighbors are encouraged to enjoy their mea
 l indoors in NWSoCo community room.
DTSTART;TZID=America/Denver:20221218T120000
DTEND;TZID=America/Denver:20221218T140000
LOCATION:1241 E Routt Ave.\, Pueblo\, CO 81004 US
SUMMARY:Hungry Buffalo - Free Meals
END:VEVENT
END:VCALENDAR
