BEGIN:VCALENDAR
VERSION:2.0
PRODID:-//nwsoco.org//NONSGML kigkonsult.se iCalcreator 2.30.10//
CALSCALE:GREGORIAN
METHOD:PUBLISH
UID:423234b0-c84f-4771-a753-0847f32d8987
X-WR-CALDESC:A guide to creating financial confidence and stability for you
  and your family\, and is the first step on your road to homeownership.
X-WR-RELCALID:5887c1d032f8dfda69f951273439abb1
X-WR-TIMEZONE:America/Denver
BEGIN:VTIMEZONE
TZID:America/Denver
BEGIN:STANDARD
TZNAME:MST
DTSTART:20221106T020000
TZOFFSETFROM:-0600
TZOFFSETTO:-0700
RDATE:20231105T020000
END:STANDARD
BEGIN:DAYLIGHT
TZNAME:MDT
DTSTART:20230312T020000
TZOFFSETFROM:-0700
TZOFFSETTO:-0600
RDATE:20240310T020000
END:DAYLIGHT
END:VTIMEZONE
BEGIN:VEVENT
UID:99b21d75-7f83-41b0-a317-329da9e96665
DTSTAMP:20260424T234624Z
DESCRIPTION:A guide to creating financial confidence and stability for you 
 and your family\, and is the first step on your road to homeownership.
DTSTART;TZID=America/Denver:20230428T130000
DTEND;TZID=America/Denver:20230428T160000
LOCATION:NWSOCO Meeting Room
SUMMARY:Financial Fitness Class - Pueblo
END:VEVENT
END:VCALENDAR
