BEGIN:VCALENDAR
VERSION:2.0
PRODID:-//nwsoco.org//NONSGML kigkonsult.se iCalcreator 2.30.10//
CALSCALE:GREGORIAN
METHOD:PUBLISH
UID:7ebda9f0-2a27-4ded-aede-b9c471209a7c
X-WR-CALDESC:
X-WR-RELCALID:29126b591f9af18b9e5c7cbdbd7e2109
X-WR-TIMEZONE:America/Denver
BEGIN:VTIMEZONE
TZID:America/Denver
BEGIN:STANDARD
TZNAME:MST
DTSTART:20221106T020000
TZOFFSETFROM:-0600
TZOFFSETTO:-0700
RDATE:20231105T020000
RDATE:20241103T020000
END:STANDARD
BEGIN:DAYLIGHT
TZNAME:MDT
DTSTART:20230312T020000
TZOFFSETFROM:-0700
TZOFFSETTO:-0600
RDATE:20240310T020000
END:DAYLIGHT
END:VTIMEZONE
BEGIN:VEVENT
UID:46b2a76d-545d-4222-b463-0f125b886367
DTSTAMP:20260424T171609Z
DESCRIPTION:
DTSTART;TZID=America/Denver:20230810T100000
DTEND;TZID=America/Denver:20230810T160000
LOCATION:415 Walsen Ave\, Walsenburg\, CO 81089 US
SUMMARY:Homebuyer Education - Walsenburg
END:VEVENT
END:VCALENDAR
