BEGIN:VCALENDAR
VERSION:2.0
PRODID:-//nwsoco.org//NONSGML kigkonsult.se iCalcreator 2.30.10//
CALSCALE:GREGORIAN
METHOD:PUBLISH
UID:ede0dc9f-6a8d-45c4-ac48-5e0469ad877c
X-WR-CALDESC:
X-WR-RELCALID:d4ae9b83b4be37ae03f7e7eab8bb0cac
X-WR-TIMEZONE:America/Denver
BEGIN:VTIMEZONE
TZID:America/Denver
BEGIN:STANDARD
TZNAME:MST
DTSTART:20221106T020000
TZOFFSETFROM:-0600
TZOFFSETTO:-0700
RDATE:20231105T020000
RDATE:20241103T020000
END:STANDARD
BEGIN:DAYLIGHT
TZNAME:MDT
DTSTART:20230312T020000
TZOFFSETFROM:-0700
TZOFFSETTO:-0600
RDATE:20240310T020000
RDATE:20250309T020000
END:DAYLIGHT
END:VTIMEZONE
BEGIN:VEVENT
UID:5752d140-08f1-4ad2-85a6-ad1c7ae74c83
DTSTAMP:20260424T154826Z
DESCRIPTION:
DTSTART;TZID=America/Denver:20230922T130000
DTEND;TZID=America/Denver:20230922T160000
LOCATION:
SUMMARY:Rental Education Class
END:VEVENT
END:VCALENDAR
