BEGIN:VCALENDAR
VERSION:2.0
PRODID:-//nwsoco.org//NONSGML kigkonsult.se iCalcreator 2.30.10//
CALSCALE:GREGORIAN
METHOD:PUBLISH
UID:738ed5e5-e936-46b6-8198-d392231c7072
X-WR-CALDESC:
X-WR-RELCALID:9e4c13b8568defce3d341120d3bed583
X-WR-TIMEZONE:America/Denver
BEGIN:VTIMEZONE
TZID:America/Denver
BEGIN:STANDARD
TZNAME:MST
DTSTART:20231105T020000
TZOFFSETFROM:-0600
TZOFFSETTO:-0700
RDATE:20241103T020000
END:STANDARD
BEGIN:DAYLIGHT
TZNAME:MDT
DTSTART:20240310T020000
TZOFFSETFROM:-0700
TZOFFSETTO:-0600
RDATE:20250309T020000
END:DAYLIGHT
END:VTIMEZONE
BEGIN:VEVENT
UID:24a9de49-fad2-4ffe-8d4c-4b8ef7c9d37c
DTSTAMP:20260424T010937Z
DESCRIPTION:
DTSTART;TZID=America/Denver:20240402T160000
DTEND;TZID=America/Denver:20240402T170000
LOCATION:1241 E Routt Ave\, PUEBLO\, CO 81004 US
SUMMARY:Board Meeting
END:VEVENT
END:VCALENDAR
