BEGIN:VCALENDAR
VERSION:2.0
PRODID:-//nwsoco.org//NONSGML kigkonsult.se iCalcreator 2.30.10//
CALSCALE:GREGORIAN
METHOD:PUBLISH
UID:d010e979-20c9-4b33-bf73-efed55157ac1
X-WR-CALDESC:NeighborWorks Southern Colorado's monthly Board Meeting
X-WR-RELCALID:7239511929b3bc74f6c80edd96ac9293
X-WR-TIMEZONE:America/Denver
BEGIN:VTIMEZONE
TZID:America/Denver
BEGIN:STANDARD
TZNAME:MST
DTSTART:20231105T020000
TZOFFSETFROM:-0600
TZOFFSETTO:-0700
RDATE:20241103T020000
RDATE:20251102T020000
END:STANDARD
BEGIN:DAYLIGHT
TZNAME:MDT
DTSTART:20240310T020000
TZOFFSETFROM:-0700
TZOFFSETTO:-0600
RDATE:20250309T020000
END:DAYLIGHT
END:VTIMEZONE
BEGIN:VEVENT
UID:2389aefc-c12d-46d9-9e1e-99a87976a599
DTSTAMP:20260423T210834Z
DESCRIPTION:NeighborWorks Southern Colorado's monthly Board Meeting
DTSTART;TZID=America/Denver:20240702T160000
DTEND;TZID=America/Denver:20240702T180000
LOCATION:1241 E Routt Ave\, Pueblo\, CO 81004 US
SUMMARY:NWSoCo Board Meeting
END:VEVENT
END:VCALENDAR
