BEGIN:VCALENDAR
VERSION:2.0
PRODID:-//nwsoco.org//NONSGML kigkonsult.se iCalcreator 2.30.10//
CALSCALE:GREGORIAN
METHOD:PUBLISH
UID:2e5099bd-98f6-4a1b-ad6f-07e57f67822d
X-WR-CALDESC:
X-WR-RELCALID:b18109a6f38bf8e1360983de5b988f30
X-WR-TIMEZONE:America/Denver
BEGIN:VTIMEZONE
TZID:America/Denver
BEGIN:STANDARD
TZNAME:MST
DTSTART:20231105T020000
TZOFFSETFROM:-0600
TZOFFSETTO:-0700
RDATE:20241103T020000
RDATE:20251102T020000
END:STANDARD
BEGIN:DAYLIGHT
TZNAME:MDT
DTSTART:20240310T020000
TZOFFSETFROM:-0700
TZOFFSETTO:-0600
RDATE:20250309T020000
END:DAYLIGHT
END:VTIMEZONE
BEGIN:VEVENT
UID:c1c0953d-c908-40f4-ac80-383833f40fdb
DTSTAMP:20260423T205942Z
DESCRIPTION:
DTSTART;TZID=America/Denver:20240726T110000
DTEND;TZID=America/Denver:20240726T140000
LOCATION:2500 W. 18th St\, Pueblo\, CO 81003 US
SUMMARY:Community Block Party
END:VEVENT
END:VCALENDAR
