BEGIN:VCALENDAR
VERSION:2.0
PRODID:-//nwsoco.org//NONSGML kigkonsult.se iCalcreator 2.30.10//
CALSCALE:GREGORIAN
METHOD:PUBLISH
UID:679ba711-543c-4d60-bfec-8351cf29638c
X-WR-CALDESC:
X-WR-RELCALID:42cde3de4d45986f8fc0da53d4bb8a18
X-WR-TIMEZONE:America/Denver
BEGIN:VTIMEZONE
TZID:America/Denver
BEGIN:STANDARD
TZNAME:MST
DTSTART:20231105T020000
TZOFFSETFROM:-0600
TZOFFSETTO:-0700
RDATE:20241103T020000
RDATE:20251102T020000
END:STANDARD
BEGIN:DAYLIGHT
TZNAME:MDT
DTSTART:20240310T020000
TZOFFSETFROM:-0700
TZOFFSETTO:-0600
RDATE:20250309T020000
END:DAYLIGHT
END:VTIMEZONE
BEGIN:VEVENT
UID:4d084a1a-c758-4b6a-86b2-168479584134
DTSTAMP:20260423T222938Z
DESCRIPTION:
DTSTART;TZID=America/Denver:20240820T100000
DTEND;TZID=America/Denver:20240820T160000
LOCATION:415 Walsen Ave\, Walsenburg\, CO 81089 US
SUMMARY:Homebuyer Education - Walsenburg
END:VEVENT
END:VCALENDAR
