BEGIN:VCALENDAR
VERSION:2.0
PRODID:-//nwsoco.org//NONSGML kigkonsult.se iCalcreator 2.30.10//
CALSCALE:GREGORIAN
METHOD:PUBLISH
UID:a701d194-a3e5-49bb-96bf-eb067a6d4f61
X-WR-CALDESC:
X-WR-RELCALID:7b1dda02bc4aa033a6e57f6c3aa42291
X-WR-TIMEZONE:America/Denver
BEGIN:VTIMEZONE
TZID:America/Denver
BEGIN:STANDARD
TZNAME:MST
DTSTART:20231105T020000
TZOFFSETFROM:-0600
TZOFFSETTO:-0700
RDATE:20241103T020000
RDATE:20251102T020000
END:STANDARD
BEGIN:DAYLIGHT
TZNAME:MDT
DTSTART:20240310T020000
TZOFFSETFROM:-0700
TZOFFSETTO:-0600
RDATE:20250309T020000
END:DAYLIGHT
END:VTIMEZONE
BEGIN:VEVENT
UID:e7dc576f-47e2-4e94-98a1-2347557a38df
DTSTAMP:20260423T222900Z
DESCRIPTION:
DTSTART;TZID=America/Denver:20240823T080000
DTEND;TZID=America/Denver:20240823T150000
LOCATION:3900 Thatcher Ave\, Pueblo\, CO 81005 US
SUMMARY:2nd Annual McClelland Golf Scramble
END:VEVENT
END:VCALENDAR
