BEGIN:VCALENDAR
VERSION:2.0
PRODID:-//nwsoco.org//NONSGML kigkonsult.se iCalcreator 2.30.10//
CALSCALE:GREGORIAN
METHOD:PUBLISH
UID:e42fdd54-00db-4471-a67c-738f378609c8
X-WR-CALDESC:
X-WR-RELCALID:e43aa103cbf91822634fab2ecd36af24
X-WR-TIMEZONE:America/Denver
BEGIN:VTIMEZONE
TZID:America/Denver
BEGIN:STANDARD
TZNAME:MST
DTSTART:20231105T020000
TZOFFSETFROM:-0600
TZOFFSETTO:-0700
RDATE:20241103T020000
RDATE:20251102T020000
END:STANDARD
BEGIN:DAYLIGHT
TZNAME:MDT
DTSTART:20240310T020000
TZOFFSETFROM:-0700
TZOFFSETTO:-0600
RDATE:20250309T020000
END:DAYLIGHT
END:VTIMEZONE
BEGIN:VEVENT
UID:2dbac30e-e04e-44bd-8727-ec96ca3ccc64
DTSTAMP:20260423T234942Z
DESCRIPTION:
DTSTART;TZID=America/Denver:20240905T100000
DTEND;TZID=America/Denver:20240905T120000
LOCATION:1241 E Routt Ave.\, Pueblo\, CO 81004 US
SUMMARY:Financial Fitness
END:VEVENT
END:VCALENDAR
