BEGIN:VCALENDAR
VERSION:2.0
PRODID:-//nwsoco.org//NONSGML kigkonsult.se iCalcreator 2.30.10//
CALSCALE:GREGORIAN
METHOD:PUBLISH
UID:4601a654-afb7-427b-afa8-e706288e2954
X-WR-CALDESC:
X-WR-RELCALID:8d1c940c0873b07a33c418eb3ac8c660
X-WR-TIMEZONE:America/Denver
BEGIN:VTIMEZONE
TZID:America/Denver
BEGIN:STANDARD
TZNAME:MST
DTSTART:20231105T020000
TZOFFSETFROM:-0600
TZOFFSETTO:-0700
RDATE:20241103T020000
RDATE:20251102T020000
END:STANDARD
BEGIN:DAYLIGHT
TZNAME:MDT
DTSTART:20240310T020000
TZOFFSETFROM:-0700
TZOFFSETTO:-0600
RDATE:20250309T020000
RDATE:20260308T020000
END:DAYLIGHT
END:VTIMEZONE
BEGIN:VEVENT
UID:2e8c6422-d27d-44f2-ba88-2227e62ec7f9
DTSTAMP:20260423T235113Z
DESCRIPTION:
DTSTART;TZID=America/Denver:20240911T090000
DTEND;TZID=America/Denver:20240911T150000
LOCATION:1661 Mesa Ave.\, Colorado Springs\, CO 80906 US
SUMMARY:Homebuyer Education - Colorado Springs
END:VEVENT
END:VCALENDAR
