BEGIN:VCALENDAR
VERSION:2.0
PRODID:-//nwsoco.org//NONSGML kigkonsult.se iCalcreator 2.30.10//
CALSCALE:GREGORIAN
METHOD:PUBLISH
UID:824fadae-7048-4b1a-97cb-66f1e5f089ed
X-WR-CALDESC:
X-WR-RELCALID:c098f66aaa448d5101e0018671e04c4a
X-WR-TIMEZONE:America/Denver
BEGIN:VTIMEZONE
TZID:America/Denver
BEGIN:STANDARD
TZNAME:MST
DTSTART:20231105T020000
TZOFFSETFROM:-0600
TZOFFSETTO:-0700
RDATE:20241103T020000
RDATE:20251102T020000
END:STANDARD
BEGIN:DAYLIGHT
TZNAME:MDT
DTSTART:20240310T020000
TZOFFSETFROM:-0700
TZOFFSETTO:-0600
RDATE:20250309T020000
RDATE:20260308T020000
END:DAYLIGHT
END:VTIMEZONE
BEGIN:VEVENT
UID:31517f7e-7902-4e3b-9dd9-36b3f3860f40
DTSTAMP:20260423T234728Z
DESCRIPTION:
DTSTART;TZID=America/Denver:20240917T100000
DTEND;TZID=America/Denver:20240917T160000
LOCATION:415 Walsen Ave\, Walsenburg\, CO 81089 US
SUMMARY:Homebuyer Education - Walsenburg
END:VEVENT
END:VCALENDAR
