BEGIN:VCALENDAR
VERSION:2.0
PRODID:-//nwsoco.org//NONSGML kigkonsult.se iCalcreator 2.30.10//
CALSCALE:GREGORIAN
METHOD:PUBLISH
UID:cb8e1881-dc49-412e-99cc-5e976413fc9e
X-WR-CALDESC:Help us celebrate our volunteers\, committee members\, and all
  the individuals who take time out of their busy schedules to support Neig
 hborWorks Southern Colorado in all aspects! Food\, drinks\, and quality ti
 me!
X-WR-RELCALID:65699a365a8510c1dfc483442b639df0
X-WR-TIMEZONE:America/Denver
BEGIN:VTIMEZONE
TZID:America/Denver
BEGIN:STANDARD
TZNAME:MST
DTSTART:20241103T020000
TZOFFSETFROM:-0600
TZOFFSETTO:-0700
RDATE:20251102T020000
END:STANDARD
BEGIN:DAYLIGHT
TZNAME:MDT
DTSTART:20240310T020000
TZOFFSETFROM:-0700
TZOFFSETTO:-0600
RDATE:20250309T020000
RDATE:20260308T020000
END:DAYLIGHT
END:VTIMEZONE
BEGIN:VEVENT
UID:eb57e21b-fc71-43ed-bd62-10e20c9fc304
DTSTAMP:20260424T035500Z
DESCRIPTION:Help us celebrate our volunteers\, committee members\, and all 
 the individuals who take time out of their busy schedules to support Neigh
 borWorks Southern Colorado in all aspects! Food\, drinks\, and quality tim
 e!
DTSTART;TZID=America/Denver:20241203T170000
DTEND;TZID=America/Denver:20241203T190000
LOCATION:1241 E Routt Ave\, Pueblo\, CO 81004 US
SUMMARY:Volunteer appreciation
END:VEVENT
END:VCALENDAR
