BEGIN:VCALENDAR
VERSION:2.0
PRODID:-//nwsoco.org//NONSGML kigkonsult.se iCalcreator 2.30.10//
CALSCALE:GREGORIAN
METHOD:PUBLISH
UID:e81d94da-a772-4369-a6bb-b4f7e8809f37
X-WR-CALDESC:
X-WR-RELCALID:4a82e38ec51767c8140fcf3007769323
X-WR-TIMEZONE:America/Denver
BEGIN:VTIMEZONE
TZID:America/Denver
BEGIN:STANDARD
TZNAME:MST
DTSTART:20241103T020000
TZOFFSETFROM:-0600
TZOFFSETTO:-0700
RDATE:20251102T020000
END:STANDARD
BEGIN:DAYLIGHT
TZNAME:MDT
DTSTART:20250309T020000
TZOFFSETFROM:-0700
TZOFFSETTO:-0600
RDATE:20260308T020000
END:DAYLIGHT
END:VTIMEZONE
BEGIN:VEVENT
UID:51da6880-a4f5-41e8-b6be-3392de9ec39d
DTSTAMP:20260424T091919Z
DESCRIPTION:
DTSTART;TZID=America/Denver:20250401T160000
DTEND;TZID=America/Denver:20250401T170000
LOCATION:1241 E Routt Ave\, PUEBLO\, CO 81004 US
SUMMARY:Board Meeting
END:VEVENT
END:VCALENDAR
