BEGIN:VCALENDAR
VERSION:2.0
PRODID:-//nwsoco.org//NONSGML kigkonsult.se iCalcreator 2.30.10//
CALSCALE:GREGORIAN
METHOD:PUBLISH
UID:c99a190b-99c4-44c3-b9d0-8a2c9521b489
X-WR-CALDESC:
X-WR-RELCALID:34d5bd58501c724feec6c519f45035fe
X-WR-TIMEZONE:America/Denver
BEGIN:VTIMEZONE
TZID:America/Denver
BEGIN:STANDARD
TZNAME:MST
DTSTART:20241103T020000
TZOFFSETFROM:-0600
TZOFFSETTO:-0700
RDATE:20251102T020000
RDATE:20261101T020000
END:STANDARD
BEGIN:DAYLIGHT
TZNAME:MDT
DTSTART:20250309T020000
TZOFFSETFROM:-0700
TZOFFSETTO:-0600
RDATE:20260308T020000
END:DAYLIGHT
END:VTIMEZONE
BEGIN:VEVENT
UID:3d7de8c1-8fec-410a-97bd-f63dba4b200e
DTSTAMP:20260424T155951Z
DESCRIPTION:
DTSTART;TZID=America/Denver:20250814T130000
DTEND;TZID=America/Denver:20250814T150000
LOCATION:1241 E Routt Ave.\, Pueblo\, CO 81004 US
SUMMARY:Financial Fitness
END:VEVENT
END:VCALENDAR
