BEGIN:VCALENDAR
VERSION:2.0
PRODID:-//nwsoco.org//NONSGML kigkonsult.se iCalcreator 2.30.10//
CALSCALE:GREGORIAN
METHOD:PUBLISH
UID:553fd93b-bdc6-4dbd-b932-e4a50792193d
X-WR-CALDESC:Join us for our Annual Celebration of Home Fundraising Dinner!
X-WR-RELCALID:a3fbc459e5195ee3e355eca2d89b123c
X-WR-TIMEZONE:America/Denver
BEGIN:VTIMEZONE
TZID:America/Denver
BEGIN:STANDARD
TZNAME:MST
DTSTART:20241103T020000
TZOFFSETFROM:-0600
TZOFFSETTO:-0700
RDATE:20251102T020000
RDATE:20261101T020000
END:STANDARD
BEGIN:DAYLIGHT
TZNAME:MDT
DTSTART:20250309T020000
TZOFFSETFROM:-0700
TZOFFSETTO:-0600
RDATE:20260308T020000
END:DAYLIGHT
END:VTIMEZONE
BEGIN:VEVENT
UID:c9fb86a8-f317-4edb-92aa-e1a68ba72930
DTSTAMP:20260424T155737Z
DESCRIPTION:Join us for our Annual Celebration of Home Fundraising Dinner!
DTSTART;TZID=America/Denver:20250815T180000
DTEND;TZID=America/Denver:20250815T220000
LOCATION:Occhiato Ballroom\, CSU-Pueblo
SUMMARY:Celebration of Home 2025
END:VEVENT
END:VCALENDAR
