BEGIN:VCALENDAR
VERSION:2.0
PRODID:-//nwsoco.org//NONSGML kigkonsult.se iCalcreator 2.30.10//
CALSCALE:GREGORIAN
METHOD:PUBLISH
UID:e7158b69-d3a3-4a72-ae5e-c5053681393f
X-WR-CALDESC:
X-WR-RELCALID:f93d8612ef304d5800dcc8dba00ddddb
X-WR-TIMEZONE:America/Denver
BEGIN:VTIMEZONE
TZID:America/Denver
BEGIN:STANDARD
TZNAME:MST
DTSTART:20241103T020000
TZOFFSETFROM:-0600
TZOFFSETTO:-0700
RDATE:20251102T020000
RDATE:20261101T020000
END:STANDARD
BEGIN:DAYLIGHT
TZNAME:MDT
DTSTART:20250309T020000
TZOFFSETFROM:-0700
TZOFFSETTO:-0600
RDATE:20260308T020000
END:DAYLIGHT
END:VTIMEZONE
BEGIN:VEVENT
UID:ec6d1efe-d721-4d34-9111-1cb9a1fb50e6
DTSTAMP:20260424T172904Z
DESCRIPTION:
DTSTART;TZID=America/Denver:20250902T160000
DTEND;TZID=America/Denver:20250902T170000
LOCATION:1241 E Routt Ave\, PUEBLO\, CO 81004 US
SUMMARY:Board Meeting
END:VEVENT
END:VCALENDAR
