BEGIN:VCALENDAR
VERSION:2.0
PRODID:-//nwsoco.org//NONSGML kigkonsult.se iCalcreator 2.30.10//
CALSCALE:GREGORIAN
METHOD:PUBLISH
UID:8ceb48e3-2b6f-424f-9a6a-a7ffd803708a
X-WR-CALDESC:
X-WR-RELCALID:3c3aebb345c2d68a7ea08d189c607f04
X-WR-TIMEZONE:America/Denver
BEGIN:VTIMEZONE
TZID:America/Denver
BEGIN:STANDARD
TZNAME:MST
DTSTART:20251102T020000
TZOFFSETFROM:-0600
TZOFFSETTO:-0700
RDATE:20261101T020000
END:STANDARD
BEGIN:DAYLIGHT
TZNAME:MDT
DTSTART:20250309T020000
TZOFFSETFROM:-0700
TZOFFSETTO:-0600
RDATE:20260308T020000
RDATE:20270314T020000
END:DAYLIGHT
END:VTIMEZONE
BEGIN:VEVENT
UID:d9d62af6-7595-4be0-bab2-fb1dd79860a9
DTSTAMP:20260424T203914Z
DESCRIPTION:
DTSTART;TZID=America/Denver:20251104T160000
DTEND;TZID=America/Denver:20251104T170000
LOCATION:1241 E Routt Ave\, PUEBLO\, CO 81004 US
SUMMARY:Board Meeting
END:VEVENT
END:VCALENDAR
