BEGIN:VCALENDAR
VERSION:2.0
PRODID:-//nwsoco.org//NONSGML kigkonsult.se iCalcreator 2.30.10//
CALSCALE:GREGORIAN
METHOD:PUBLISH
UID:703a74b2-2b2a-4024-80b2-38d0d76fcf62
X-WR-CALDESC:
X-WR-RELCALID:2cdd283e60bf502ad4a4de38980df998
X-WR-TIMEZONE:America/Denver
BEGIN:VTIMEZONE
TZID:America/Denver
BEGIN:STANDARD
TZNAME:MST
DTSTART:20251102T020000
TZOFFSETFROM:-0600
TZOFFSETTO:-0700
RDATE:20261101T020000
END:STANDARD
BEGIN:DAYLIGHT
TZNAME:MDT
DTSTART:20250309T020000
TZOFFSETFROM:-0700
TZOFFSETTO:-0600
RDATE:20260308T020000
RDATE:20270314T020000
END:DAYLIGHT
END:VTIMEZONE
BEGIN:VEVENT
UID:00cd6b21-058a-4673-b060-a131a35f47fe
DTSTAMP:20260424T202824Z
DESCRIPTION:
DTSTART;TZID=America/Denver:20251122T090000
DTEND;TZID=America/Denver:20251122T150000
LOCATION:1241 E Routt Ave\,\, PUEBLO\, CO 81004 US
SUMMARY:Homebuyer Education - Pueblo
END:VEVENT
END:VCALENDAR
