BEGIN:VCALENDAR
VERSION:2.0
PRODID:-//nwsoco.org//NONSGML kigkonsult.se iCalcreator 2.30.10//
CALSCALE:GREGORIAN
METHOD:PUBLISH
UID:cb75cd7e-3d27-479b-b4c0-f967dd59c066
X-WR-CALDESC:
X-WR-RELCALID:ac6672580d05209e31bcf57f7529f6cc
X-WR-TIMEZONE:America/Denver
BEGIN:VTIMEZONE
TZID:America/Denver
BEGIN:STANDARD
TZNAME:MST
DTSTART:20251102T020000
TZOFFSETFROM:-0600
TZOFFSETTO:-0700
RDATE:20261101T020000
END:STANDARD
BEGIN:DAYLIGHT
TZNAME:MDT
DTSTART:20250309T020000
TZOFFSETFROM:-0700
TZOFFSETTO:-0600
RDATE:20260308T020000
RDATE:20270314T020000
END:DAYLIGHT
END:VTIMEZONE
BEGIN:VEVENT
UID:53f730d6-137c-4e47-94a4-485c50994fd3
DTSTAMP:20260425T000315Z
DESCRIPTION:
DTSTART;TZID=America/Denver:20260108T100000
DTEND;TZID=America/Denver:20260108T120000
LOCATION:1241 E Routt Ave.\, Pueblo\, AL 81004 US
SUMMARY:Financial Fitness
END:VEVENT
END:VCALENDAR
