BEGIN:VCALENDAR
VERSION:2.0
PRODID:-//nwsoco.org//NONSGML kigkonsult.se iCalcreator 2.30.10//
CALSCALE:GREGORIAN
METHOD:PUBLISH
UID:7594b847-d554-4df9-a289-bb30af39cc62
X-WR-CALDESC:
X-WR-RELCALID:43ee6bc420f04e45acb09d9d46075871
X-WR-TIMEZONE:America/Denver
BEGIN:VTIMEZONE
TZID:America/Denver
BEGIN:STANDARD
TZNAME:MST
DTSTART:20251102T020000
TZOFFSETFROM:-0600
TZOFFSETTO:-0700
RDATE:20261101T020000
END:STANDARD
BEGIN:DAYLIGHT
TZNAME:MDT
DTSTART:20250309T020000
TZOFFSETFROM:-0700
TZOFFSETTO:-0600
RDATE:20260308T020000
RDATE:20270314T020000
END:DAYLIGHT
END:VTIMEZONE
BEGIN:VEVENT
UID:a4be0c65-5424-4937-8a35-5128423a1e15
DTSTAMP:20260425T032703Z
DESCRIPTION:
DTSTART;TZID=America/Denver:20260305T100000
DTEND;TZID=America/Denver:20260305T120000
LOCATION:1241 E Routt Ave.\, Pueblo\, AL 81004 US
SUMMARY:Financial Fitness
END:VEVENT
END:VCALENDAR
