BEGIN:VCALENDAR
VERSION:2.0
PRODID:-//nwsoco.org//NONSGML kigkonsult.se iCalcreator 2.30.10//
CALSCALE:GREGORIAN
METHOD:PUBLISH
UID:fa35be90-543e-4d0e-a364-5ac76a8f4921
X-WR-CALDESC:
X-WR-RELCALID:2fdbed6a35fd60a723a0d5ee1938d72a
X-WR-TIMEZONE:America/Denver
BEGIN:VTIMEZONE
TZID:America/Denver
BEGIN:STANDARD
TZNAME:MST
DTSTART:20251102T020000
TZOFFSETFROM:-0600
TZOFFSETTO:-0700
RDATE:20261101T020000
END:STANDARD
BEGIN:DAYLIGHT
TZNAME:MDT
DTSTART:20260308T020000
TZOFFSETFROM:-0700
TZOFFSETTO:-0600
RDATE:20270314T020000
END:DAYLIGHT
END:VTIMEZONE
BEGIN:VEVENT
UID:a39e9e3d-bea6-4a00-8d6c-efc5c5591846
DTSTAMP:20260425T032430Z
DESCRIPTION:
DTSTART;TZID=America/Denver:20260319T130000
DTEND;TZID=America/Denver:20260319T150000
LOCATION:1241 E Routt Ave.\, Pueblo\, CO 81004 US
SUMMARY:Financial Fitness
END:VEVENT
END:VCALENDAR
