BEGIN:VCALENDAR
VERSION:2.0
PRODID:-//nwsoco.org//NONSGML kigkonsult.se iCalcreator 2.30.10//
CALSCALE:GREGORIAN
METHOD:PUBLISH
UID:75f4a1f3-cc8b-4636-9213-885b0181ec11
X-WR-CALDESC:
X-WR-RELCALID:6f5b5de3fa6981ccde0b6869fb5d1520
X-WR-TIMEZONE:America/Denver
BEGIN:VTIMEZONE
TZID:America/Denver
BEGIN:STANDARD
TZNAME:MST
DTSTART:20251102T020000
TZOFFSETFROM:-0600
TZOFFSETTO:-0700
RDATE:20261101T020000
END:STANDARD
BEGIN:DAYLIGHT
TZNAME:MDT
DTSTART:20260308T020000
TZOFFSETFROM:-0700
TZOFFSETTO:-0600
RDATE:20270314T020000
END:DAYLIGHT
END:VTIMEZONE
BEGIN:VEVENT
UID:47fb0db2-ca39-495d-9909-75087ac8d686
DTSTAMP:20260419T150634Z
DESCRIPTION:
DTSTART;TZID=America/Denver:20260402T100000
DTEND;TZID=America/Denver:20260402T120000
LOCATION:1241 E Routt Ave.\, Pueblo\, AL 81004 US
SUMMARY:Financial Fitness
END:VEVENT
END:VCALENDAR
