BEGIN:VCALENDAR
VERSION:2.0
PRODID:-//nwsoco.org//NONSGML kigkonsult.se iCalcreator 2.30.10//
CALSCALE:GREGORIAN
METHOD:PUBLISH
UID:ec3cd586-d0a5-43b3-9206-4041cc2cedea
X-WR-CALDESC:
X-WR-RELCALID:71aa3d7b75ffbfb04bc6b1dc4505dec7
X-WR-TIMEZONE:America/Denver
BEGIN:VTIMEZONE
TZID:America/Denver
BEGIN:STANDARD
TZNAME:MST
DTSTART:20251102T020000
TZOFFSETFROM:-0600
TZOFFSETTO:-0700
RDATE:20261101T020000
RDATE:20271107T020000
END:STANDARD
BEGIN:DAYLIGHT
TZNAME:MDT
DTSTART:20260308T020000
TZOFFSETFROM:-0700
TZOFFSETTO:-0600
RDATE:20270314T020000
END:DAYLIGHT
END:VTIMEZONE
BEGIN:VEVENT
UID:acff2275-8035-4d97-8ecd-e664b4b9ffa3
DTSTAMP:20260425T113746Z
DESCRIPTION:
DTSTART;TZID=America/Denver:20260804T100000
DTEND;TZID=America/Denver:20260804T160000
LOCATION:415 Walsen Ave\, Walsenburg\, AL 81089 US
SUMMARY:Homebuyer Education - Walsenburg
END:VEVENT
END:VCALENDAR
