BEGIN:VCALENDAR
VERSION:2.0
PRODID:-//nwsoco.org//NONSGML kigkonsult.se iCalcreator 2.30.10//
CALSCALE:GREGORIAN
METHOD:PUBLISH
UID:f6d2672f-926b-4419-88af-f409d3c514e8
X-WR-CALDESC:
X-WR-RELCALID:b16b910283a3a7041036543b5f4f158e
X-WR-TIMEZONE:America/Denver
BEGIN:VTIMEZONE
TZID:America/Denver
BEGIN:STANDARD
TZNAME:MST
DTSTART:20261101T020000
TZOFFSETFROM:-0600
TZOFFSETTO:-0700
RDATE:20271107T020000
END:STANDARD
BEGIN:DAYLIGHT
TZNAME:MDT
DTSTART:20260308T020000
TZOFFSETFROM:-0700
TZOFFSETTO:-0600
RDATE:20270314T020000
RDATE:20280312T020000
END:DAYLIGHT
END:VTIMEZONE
BEGIN:VEVENT
UID:c3eb2f20-4d8f-4a50-b8a8-de3e78f44f5c
DTSTAMP:20260425T175801Z
DESCRIPTION:
DTSTART;TZID=America/Denver:20261203T100000
DTEND;TZID=America/Denver:20261203T120000
LOCATION:1241 E Routt Ave.\, Pueblo\, AL 81004 US
SUMMARY:Financial Fitness
END:VEVENT
END:VCALENDAR
