BEGIN:VCALENDAR
VERSION:2.0
PRODID:-//nwsoco.org//NONSGML kigkonsult.se iCalcreator 2.30.10//
CALSCALE:GREGORIAN
METHOD:PUBLISH
UID:97ba549a-4c39-4e25-969a-f96a0b50d874
X-WR-CALDESC:NeighborWorks Southern Colorado's monthly Board Meeting
X-WR-RELCALID:fc40cef4d290786e63cbd306d76d9d70
X-WR-TIMEZONE:America/Denver
BEGIN:VTIMEZONE
TZID:America/Denver
BEGIN:STANDARD
TZNAME:MST
DTSTART:20261101T020000
TZOFFSETFROM:-0600
TZOFFSETTO:-0700
RDATE:20271107T020000
END:STANDARD
BEGIN:DAYLIGHT
TZNAME:MDT
DTSTART:20270314T020000
TZOFFSETFROM:-0700
TZOFFSETTO:-0600
RDATE:20280312T020000
END:DAYLIGHT
END:VTIMEZONE
BEGIN:VEVENT
UID:4f94a221-972c-4e26-9efa-b9d8127b6e22
DTSTAMP:20260425T234559Z
DESCRIPTION:NeighborWorks Southern Colorado's monthly Board Meeting
DTSTART;TZID=America/Denver:20270406T160000
DTEND;TZID=America/Denver:20270406T180000
LOCATION:1241 E Routt Ave\, Pueblo\, CO 81004 US
SUMMARY:NWSoCo Board Meeting
END:VEVENT
END:VCALENDAR
