BEGIN:VCALENDAR
VERSION:2.0
PRODID:-//nwsoco.org//NONSGML kigkonsult.se iCalcreator 2.30.10//
CALSCALE:GREGORIAN
METHOD:PUBLISH
UID:ad7aaa5f-14e6-41b1-a47b-ed6085bbfd97
X-WR-CALDESC:
X-WR-RELCALID:a62e5fbede359c3eca38db20932c648d
X-WR-TIMEZONE:America/Denver
BEGIN:VTIMEZONE
TZID:America/Denver
BEGIN:STANDARD
TZNAME:MST
DTSTART:20261101T020000
TZOFFSETFROM:-0600
TZOFFSETTO:-0700
RDATE:20271107T020000
RDATE:20281105T020000
END:STANDARD
BEGIN:DAYLIGHT
TZNAME:MDT
DTSTART:20270314T020000
TZOFFSETFROM:-0700
TZOFFSETTO:-0600
RDATE:20280312T020000
END:DAYLIGHT
END:VTIMEZONE
BEGIN:VEVENT
UID:026c90f6-7305-4bc4-bd1a-0f2f2d10a389
DTSTAMP:20260426T025214Z
DESCRIPTION:
DTSTART;TZID=America/Denver:20270601T160000
DTEND;TZID=America/Denver:20270601T170000
LOCATION:1241 E Routt Ave\, PUEBLO\, CO 81004 US
SUMMARY:Board Meeting
END:VEVENT
END:VCALENDAR
