BEGIN:VCALENDAR
VERSION:2.0
PRODID:-//nwsoco.org//NONSGML kigkonsult.se iCalcreator 2.30.10//
CALSCALE:GREGORIAN
METHOD:PUBLISH
UID:342f89e9-562a-4252-bc3c-ae404048f0c1
X-WR-CALDESC:Coaching to prepare and educate families for successful homeow
 nership.
X-WR-RELCALID:e72c6ce7352c7536dd8d3927b2f5edd7
X-WR-TIMEZONE:America/Denver
BEGIN:VTIMEZONE
TZID:America/Denver
BEGIN:STANDARD
TZNAME:MST
DTSTART:20191103T020000
TZOFFSETFROM:-0600
TZOFFSETTO:-0700
RDATE:20201101T020000
RDATE:20211107T020000
END:STANDARD
BEGIN:DAYLIGHT
TZNAME:MDT
DTSTART:20200308T020000
TZOFFSETFROM:-0700
TZOFFSETTO:-0600
RDATE:20210314T020000
RDATE:20220313T020000
END:DAYLIGHT
END:VTIMEZONE
BEGIN:VEVENT
UID:083bc214-b5ec-475e-be24-1d0619adb372
DTSTAMP:20260420T233954Z
DESCRIPTION:Coaching to prepare and educate families for successful homeown
 ership.
DTSTART;TZID=America/Denver:20201017T090000
DTEND;TZID=America/Denver:20201017T150000
LOCATION:El Pomar Foundation\, Penrose House
SUMMARY:Canceled - Homebuyer Education - Colorado Springs
END:VEVENT
END:VCALENDAR
