BEGIN:VCALENDAR
VERSION:2.0
PRODID:-//nwsoco.org//NONSGML kigkonsult.se iCalcreator 2.30.10//
CALSCALE:GREGORIAN
METHOD:PUBLISH
UID:46d6166d-4792-4af1-bce7-87dc05d3101d
X-WR-CALDESC:
X-WR-RELCALID:18f9c0125f23edae1d3b0e1a7eb8bfef
X-WR-TIMEZONE:America/Denver
BEGIN:VTIMEZONE
TZID:America/Denver
BEGIN:STANDARD
TZNAME:MST
DTSTART:20221106T020000
TZOFFSETFROM:-0600
TZOFFSETTO:-0700
RDATE:20231105T020000
RDATE:20241103T020000
END:STANDARD
BEGIN:DAYLIGHT
TZNAME:MDT
DTSTART:20230312T020000
TZOFFSETFROM:-0700
TZOFFSETTO:-0600
RDATE:20240310T020000
END:DAYLIGHT
END:VTIMEZONE
BEGIN:VEVENT
UID:506a25c2-81c3-4756-9b8a-6369cc33998b
DTSTAMP:20260426T035841Z
DESCRIPTION:
DTSTART;TZID=America/Denver:20230630T130000
DTEND;TZID=America/Denver:20230630T160000
LOCATION:
SUMMARY:Rental Education Class
END:VEVENT
END:VCALENDAR
