BEGIN:VCALENDAR
VERSION:2.0
PRODID:-//nwsoco.org//NONSGML kigkonsult.se iCalcreator 2.30.10//
CALSCALE:GREGORIAN
METHOD:PUBLISH
UID:9e56be83-0700-4857-87b4-0b0d3a91ae41
X-WR-CALDESC:
X-WR-RELCALID:e55399beff1f71c1d0f3733239dac912
X-WR-TIMEZONE:America/Denver
BEGIN:VTIMEZONE
TZID:America/Denver
BEGIN:STANDARD
TZNAME:MST
DTSTART:20221106T020000
TZOFFSETFROM:-0600
TZOFFSETTO:-0700
RDATE:20231105T020000
RDATE:20241103T020000
END:STANDARD
BEGIN:DAYLIGHT
TZNAME:MDT
DTSTART:20230312T020000
TZOFFSETFROM:-0700
TZOFFSETTO:-0600
RDATE:20240310T020000
END:DAYLIGHT
END:VTIMEZONE
BEGIN:VEVENT
UID:5073f5e6-92e5-4b49-b983-ade31d10f50b
DTSTAMP:20260426T005501Z
DESCRIPTION:
DTSTART;TZID=America/Denver:20230823T090000
DTEND;TZID=America/Denver:20230823T150000
LOCATION:1661 Mesa Ave.\, Colorado Springs\, CO 80906 US
SUMMARY:Homebuyer Education - Colorado Springs
END:VEVENT
END:VCALENDAR
