BEGIN:VCALENDAR
VERSION:2.0
PRODID:-//nwsoco.org//NONSGML kigkonsult.se iCalcreator 2.30.10//
CALSCALE:GREGORIAN
METHOD:PUBLISH
UID:9009a58f-13f7-4359-a51f-421ee0057f51
X-WR-CALDESC:NeighborWorks Southern Colorado 4th Annual Golf Scramble! Come
  PAR-TEE with us!
X-WR-RELCALID:8917e372a0faa329a79f1098385cc935
X-WR-TIMEZONE:America/Denver
BEGIN:VTIMEZONE
TZID:America/Denver
BEGIN:STANDARD
TZNAME:MST
DTSTART:20231105T020000
TZOFFSETFROM:-0600
TZOFFSETTO:-0700
RDATE:20241103T020000
RDATE:20251102T020000
END:STANDARD
BEGIN:DAYLIGHT
TZNAME:MDT
DTSTART:20240310T020000
TZOFFSETFROM:-0700
TZOFFSETTO:-0600
RDATE:20250309T020000
END:DAYLIGHT
END:VTIMEZONE
BEGIN:VEVENT
UID:06d74525-4f33-49d1-9f79-c14e4078faba
DTSTAMP:20260425T101919Z
DESCRIPTION:NeighborWorks Southern Colorado 4th Annual Golf Scramble! Come 
 PAR-TEE with us!
DTSTART;TZID=America/Denver:20240503T040000
DTEND;TZID=America/Denver:20240503T040001
LOCATION:3900 Thatcher Ave\, Pueblo\, CO 81005 US
SUMMARY:4th Annual Golf Scramble
END:VEVENT
END:VCALENDAR
