BEGIN:VCALENDAR
VERSION:2.0
PRODID:-//nwsoco.org//NONSGML kigkonsult.se iCalcreator 2.30.10//
CALSCALE:GREGORIAN
METHOD:PUBLISH
UID:6a64218d-383b-44c7-91eb-d47bfded6150
X-WR-CALDESC:
X-WR-RELCALID:cf46e4faab5513a048ce7e2692a2b2b2
X-WR-TIMEZONE:America/Denver
BEGIN:VTIMEZONE
TZID:America/Denver
BEGIN:STANDARD
TZNAME:MST
DTSTART:20231105T020000
TZOFFSETFROM:-0600
TZOFFSETTO:-0700
RDATE:20241103T020000
RDATE:20251102T020000
END:STANDARD
BEGIN:DAYLIGHT
TZNAME:MDT
DTSTART:20240310T020000
TZOFFSETFROM:-0700
TZOFFSETTO:-0600
RDATE:20250309T020000
END:DAYLIGHT
END:VTIMEZONE
BEGIN:VEVENT
UID:73b7f9ee-5093-473c-900a-84508ac8dc1f
DTSTAMP:20260425T040045Z
DESCRIPTION:
DTSTART;TZID=America/Denver:20240904T090000
DTEND;TZID=America/Denver:20240904T150000
LOCATION:1661 Mesa Ave.\, Colorado Springs\, CO 80906 US
SUMMARY:Homebuyer Education - Colorado Springs
END:VEVENT
END:VCALENDAR
