BEGIN:VCALENDAR
VERSION:2.0
PRODID:-//nwsoco.org//NONSGML kigkonsult.se iCalcreator 2.30.10//
CALSCALE:GREGORIAN
METHOD:PUBLISH
UID:ab943573-e8dc-44f1-97dd-f210cee9e682
X-WR-CALDESC:Join us for our Annual Celebration of Home Fundraising Dinner!
X-WR-RELCALID:d0651e550a9114c4e4f48a7d7d96d56b
X-WR-TIMEZONE:America/Denver
BEGIN:VTIMEZONE
TZID:America/Denver
BEGIN:STANDARD
TZNAME:MST
DTSTART:20231105T020000
TZOFFSETFROM:-0600
TZOFFSETTO:-0700
RDATE:20241103T020000
RDATE:20251102T020000
END:STANDARD
BEGIN:DAYLIGHT
TZNAME:MDT
DTSTART:20240310T020000
TZOFFSETFROM:-0700
TZOFFSETTO:-0600
RDATE:20250309T020000
RDATE:20260308T020000
END:DAYLIGHT
END:VTIMEZONE
BEGIN:VEVENT
UID:a4ed3bab-6c6b-4746-8010-64822b4045e3
DTSTAMP:20260425T040028Z
DESCRIPTION:Join us for our Annual Celebration of Home Fundraising Dinner!
DTSTART;TZID=America/Denver:20240913T173000
DTEND;TZID=America/Denver:20240913T220000
LOCATION:Occhiato Ballroom\, CSU-Pueblo
SUMMARY:Celebration of Home 2024
END:VEVENT
END:VCALENDAR
