BEGIN:VCALENDAR
VERSION:2.0
PRODID:-//nwsoco.org//NONSGML kigkonsult.se iCalcreator 2.30.10//
CALSCALE:GREGORIAN
METHOD:PUBLISH
UID:6bb79fe0-7561-4721-b27c-fde1cb860798
X-WR-CALDESC:
X-WR-RELCALID:a33f5263757a188ccb893203346d0b0d
X-WR-TIMEZONE:America/Denver
BEGIN:VTIMEZONE
TZID:America/Denver
BEGIN:STANDARD
TZNAME:MST
DTSTART:20231105T020000
TZOFFSETFROM:-0600
TZOFFSETTO:-0700
RDATE:20241103T020000
RDATE:20251102T020000
END:STANDARD
BEGIN:DAYLIGHT
TZNAME:MDT
DTSTART:20240310T020000
TZOFFSETFROM:-0700
TZOFFSETTO:-0600
RDATE:20250309T020000
RDATE:20260308T020000
END:DAYLIGHT
END:VTIMEZONE
BEGIN:VEVENT
UID:f71517b6-33c0-4c28-b4f6-1f77d9481c1a
DTSTAMP:20260425T040418Z
DESCRIPTION:
DTSTART;TZID=America/Denver:20240913T153000
DTEND;TZID=America/Denver:20240913T230000
LOCATION:
SUMMARY:Silent Auction (Copy)
END:VEVENT
END:VCALENDAR
